BEGIN:VCALENDAR
VERSION:2.0
PRODID:-//Of@Campus Luzern - ECPv6.15.20//NONSGML v1.0//EN
CALSCALE:GREGORIAN
METHOD:PUBLISH
X-ORIGINAL-URL:https://ofunilu.ch
X-WR-CALDESC:Veranstaltungen für Of@Campus Luzern
REFRESH-INTERVAL;VALUE=DURATION:PT1H
X-Robots-Tag:noindex
X-PUBLISHED-TTL:PT1H
BEGIN:VTIMEZONE
TZID:UTC
BEGIN:STANDARD
TZOFFSETFROM:+0000
TZOFFSETTO:+0000
TZNAME:UTC
DTSTART:20250101T000000
END:STANDARD
END:VTIMEZONE
BEGIN:VEVENT
DTSTART;TZID=UTC:20260303T170000
DTEND;TZID=UTC:20260303T190000
DTSTAMP:20260422T084930
CREATED:20260226T101647Z
LAST-MODIFIED:20260227T124923Z
UID:485-1772557200-1772564400@ofunilu.ch
SUMMARY:Frühlingsstamm Of@Campus Luzern
DESCRIPTION:Liebe Vereinsmitglieder \nZum Beginn des Frühlingssemesters laden wir Euch herzlich zu unserem Frühlingsstamm im traditionsreichen Château Gütsch ein. Die stilvolle American Bar bietet einen würdigen Rahmen für kameradschaftlichen Austausch\, anregende Gespräche und einen gemeinsamen Auftakt in das neue Semester. \nWir freuen uns auf einen gepflegten Abend in besonderer Atmosphäre und auf zahlreiches Erscheinen. \nMit kameradschaftlichen Grüssen\nEuer Vorstand Of@Campus Luzern
URL:https://ofunilu.ch/event/fruehlingsstamm-ofcampus-luzern/
LOCATION:Château Gütsch\, Château Gütsch\, Luzern\, Luzern\, 6003\, Switzerland
ATTACH;FMTTYPE=image/png:https://ofunilu.ch/wp-content/uploads/2026/02/Stamm-03.03.2026-final.png
ORGANIZER;CN="Of@Campus Luzern":MAILTO:kommunikation@ofunilu.ch
END:VEVENT
END:VCALENDAR