BEGIN:VCALENDAR
VERSION:2.0
PRODID:-//Of@Campus Luzern - ECPv6.15.20//NONSGML v1.0//EN
CALSCALE:GREGORIAN
METHOD:PUBLISH
X-WR-CALNAME:Of@Campus Luzern
X-ORIGINAL-URL:https://ofunilu.ch
X-WR-CALDESC:Veranstaltungen für Of@Campus Luzern
REFRESH-INTERVAL;VALUE=DURATION:PT1H
X-Robots-Tag:noindex
X-PUBLISHED-TTL:PT1H
BEGIN:VTIMEZONE
TZID:Europe/Helsinki
BEGIN:DAYLIGHT
TZOFFSETFROM:+0200
TZOFFSETTO:+0300
TZNAME:EEST
DTSTART:20240331T010000
END:DAYLIGHT
BEGIN:STANDARD
TZOFFSETFROM:+0300
TZOFFSETTO:+0200
TZNAME:EET
DTSTART:20241027T010000
END:STANDARD
BEGIN:DAYLIGHT
TZOFFSETFROM:+0200
TZOFFSETTO:+0300
TZNAME:EEST
DTSTART:20250330T010000
END:DAYLIGHT
BEGIN:STANDARD
TZOFFSETFROM:+0300
TZOFFSETTO:+0200
TZNAME:EET
DTSTART:20251026T010000
END:STANDARD
BEGIN:DAYLIGHT
TZOFFSETFROM:+0200
TZOFFSETTO:+0300
TZNAME:EEST
DTSTART:20260329T010000
END:DAYLIGHT
BEGIN:STANDARD
TZOFFSETFROM:+0300
TZOFFSETTO:+0200
TZNAME:EET
DTSTART:20261025T010000
END:STANDARD
END:VTIMEZONE
BEGIN:VEVENT
DTSTART;TZID=Europe/Helsinki:20250522T180000
DTEND;TZID=Europe/Helsinki:20250522T220000
DTSTAMP:20260424T154352
CREATED:20250509T151934Z
LAST-MODIFIED:20250520T151522Z
UID:338-1747936800-1747951200@ofunilu.ch
SUMMARY:Ü "LUCERNA" (Stadtführung)
DESCRIPTION:Lerne Luzern von einer neuen Seite kennen!Wir laden dich herzlich zu einer gemütlichen Stadtführung durch Luzern ein\, organisiert vom Of@Campus Luzern. Gemeinsam entdecken wir bekannte und verborgene Orte – begleitet von spannenden Kurzbeiträgen unserer Mitglieder. \n📣 Du kennst einen besonderen Ort oder hast eine Geschichte zu Luzern?Dann bring dich ein und gestalte die Führung aktiv mit – wir freuen uns über jeden Beitrag! \nZum Abschluss stossen wir gemeinsam an und lassen den Abend entspannt ausklingen. \n📍 Treffpunkt: Torbogen beim Bahnhof\, Luzern🕒 Uhrzeit: 18:00 Uhr \nFür Aktivmitglieder: Siehe „Allg. Befehl“ für Details und Einteilung.🫡 
URL:https://ofunilu.ch/event/u-lucerna-stadtfuehrung/
LOCATION:Stadt Luzern
ATTACH;FMTTYPE=image/jpeg:https://ofunilu.ch/wp-content/uploads/2025/05/simon-infanger-GBEsQunkQl0-unsplash-scaled.jpg
ORGANIZER;CN="Of@Campus Luzern":MAILTO:kommunikation@ofunilu.ch
END:VEVENT
END:VCALENDAR