BEGIN:VCALENDAR
VERSION:2.0
PRODID:-//Of@Campus Luzern - ECPv6.15.20//NONSGML v1.0//EN
CALSCALE:GREGORIAN
METHOD:PUBLISH
X-ORIGINAL-URL:https://ofunilu.ch
X-WR-CALDESC:Veranstaltungen für Of@Campus Luzern
REFRESH-INTERVAL;VALUE=DURATION:PT1H
X-Robots-Tag:noindex
X-PUBLISHED-TTL:PT1H
BEGIN:VTIMEZONE
TZID:Europe/Paris
BEGIN:DAYLIGHT
TZOFFSETFROM:+0100
TZOFFSETTO:+0200
TZNAME:CEST
DTSTART:20240331T010000
END:DAYLIGHT
BEGIN:STANDARD
TZOFFSETFROM:+0200
TZOFFSETTO:+0100
TZNAME:CET
DTSTART:20241027T010000
END:STANDARD
BEGIN:DAYLIGHT
TZOFFSETFROM:+0100
TZOFFSETTO:+0200
TZNAME:CEST
DTSTART:20250330T010000
END:DAYLIGHT
BEGIN:STANDARD
TZOFFSETFROM:+0200
TZOFFSETTO:+0100
TZNAME:CET
DTSTART:20251026T010000
END:STANDARD
BEGIN:DAYLIGHT
TZOFFSETFROM:+0100
TZOFFSETTO:+0200
TZNAME:CEST
DTSTART:20260329T010000
END:DAYLIGHT
BEGIN:STANDARD
TZOFFSETFROM:+0200
TZOFFSETTO:+0100
TZNAME:CET
DTSTART:20261025T010000
END:STANDARD
END:VTIMEZONE
BEGIN:VEVENT
DTSTART;TZID=Europe/Paris:20251119T180000
DTEND;TZID=Europe/Paris:20251119T190000
DTSTAMP:20260422T125115
CREATED:20251115T214012Z
LAST-MODIFIED:20251115T214012Z
UID:467-1763575200-1763578800@ofunilu.ch
SUMMARY:2. Sino-Japanische Krieg und seine Auswirkung auf Asiens Gegenwart
DESCRIPTION:Die geopolitischen Spannungen und wirtschaftlichen Machtverschiebungen in Ostasien beeinflussen heute Politik\, Wirtschaft und Sicherheit rund um den Globus. Ihre Wurzeln reichen weit zurück – bis in den 2. Sino-Japanischen Krieg. \nIn einem Kurzreferat mit anschliessender Diskussionsmöglichkeit beleuchtet unser Mitglied die historischen Hintergründe dieses Konflikts und zeigt auf\, wie seine Auswirkungen bis heute die Machtverhältnisse und sicherheitspolitischen Dynamiken in Asien prägen. \nAls studierende Offiziersgesellschaft an den Hochschulen Luzern ist es uns ein Anliegen\, sicherheitspolitische und gesellschaftliche Themen für die Öffentlichkeit verständlich und zugänglich zu machen. Mit Veranstaltungen wie dieser möchten wir Studierenden wie auch der Luzerner Bevölkerung fundierte Einblicke und die Möglichkeit zum Austausch bieten. \nDer Anlass ist für alle Interessierten offen. Im Anschluss findet ein Stamm für Mitglieder und Freunde unseres Vereins statt.
URL:https://ofunilu.ch/event/2-sino-japanische-krieg-und-seine-auswirkung-auf-asiens-gegenwart/
LOCATION:Uri
ATTACH;FMTTYPE=image/jpeg:https://ofunilu.ch/wp-content/uploads/2025/11/1762984259395.jpg
ORGANIZER;CN="Of@Campus Luzern":MAILTO:kommunikation@ofunilu.ch
END:VEVENT
END:VCALENDAR